BEGIN:VCALENDAR
VERSION:2.0
PRODID:-//eventon.com NONSGML v1.0//EN
BEGIN:VEVENT
UID:69eb162a8af6d
DTSTAMP:20260424T070514
DTSTART:20211007T140000Z
DTEND:20211007T150000Z
LOCATION:
SUMMARY:Control the Controllable ®
DESCRIPTION: Judge Rachel L. Bell will be speaking from her heart and sharing how to Control the Controllable ®\,  how to overcome obstacles and face personal and professional challenges head on. In 2016\,  Judge Bell experienced a very challenging time in her life facing judicial scrutiny and getting in what we[..]
END:VEVENT
END:VCALENDAR