BEGIN:VCALENDAR
VERSION:2.0
PRODID:-//eventon.com NONSGML v1.0//EN
BEGIN:VEVENT
UID:69e5cb0999d45
DTSTAMP:20260420T064321
DTSTART:20211014T100000Z
DTEND:20211014T235000Z
LOCATION:
SUMMARY:Transform & Reform: AIA Academy of Architecture for Justice (AAJ) Fall Conference 2021
DESCRIPTION: Our 2021 virtual conference presents a unique opportunity to reach out both nationally and internationally to architecture colleagues working in parallel fields\,  such as health\,  mental health\,  and education\,  as well as professionals in disciplines that intersect with the justice system\,  such as criminology\,  psychology\,  and social work.
END:VEVENT
END:VCALENDAR