BEGIN:VCALENDAR
VERSION:2.0
PRODID:-//eventon.com NONSGML v1.0//EN
BEGIN:VEVENT
UID:69ecf4607fa13
DTSTAMP:20260425T170536
DTSTART:20220106T123000Z
DTEND:20220106T130000Z
LOCATION:
SUMMARY:Emerging Professionals Committee Meeting
DESCRIPTION: link in calendar invite Email hello@aiamidtn.org if you are interested in getting involved with this committee.
END:VEVENT
END:VCALENDAR