BEGIN:VCALENDAR
VERSION:2.0
PRODID:-//eventon.com NONSGML v1.0//EN
BEGIN:VEVENT
UID:69e95f71c3cac
DTSTAMP:20260422T235321
DTSTART:20220325T150000Z
DTEND:20220325T163000Z
LOCATION:
SUMMARY:Chapter Meeting
DESCRIPTION: Chapter Meeting
END:VEVENT
END:VCALENDAR