BEGIN:VCALENDAR
VERSION:2.0
PRODID:-//eventon.com NONSGML v1.0//EN
BEGIN:VEVENT
UID:69e9f01066cc1
DTSTAMP:20260423T101024
DTSTART:20220222T000000Z
DTEND:20220324T235900Z
LOCATION:
SUMMARY:Grassroots Conference
DESCRIPTION: Grassroots Conference
END:VEVENT
END:VCALENDAR